BEGIN:VCALENDAR
VERSION:2.0
PRODID:spatie/icalendar-generator
DESCRIPTION:Veranstaltungen von Piratenpartei beider Basel
X-WR-CALDESC:Veranstaltungen von Piratenpartei beider Basel
REFRESH-INTERVAL;VALUE=DURATION:PT1440M
X-PUBLISHED-TTL:PT1440M
BEGIN:VTIMEZONE
TZID:Europe/Zurich
BEGIN:STANDARD
DTSTART:20201025T030000Z
TZOFFSETFROM:+0200
TZOFFSETTO:+0100
END:STANDARD
BEGIN:DAYLIGHT
DTSTART:20210328T020000Z
TZOFFSETFROM:+0100
TZOFFSETTO:+0200
END:DAYLIGHT
BEGIN:STANDARD
DTSTART:20211031T030000Z
TZOFFSETFROM:+0200
TZOFFSETTO:+0100
END:STANDARD
END:VTIMEZONE
BEGIN:VTIMEZONE
TZID:UTC
BEGIN:STANDARD
DTSTART:20250724T103947Z
TZOFFSETFROM:+0000
TZOFFSETTO:+0000
END:STANDARD
END:VTIMEZONE
BEGIN:VEVENT
UID:426-226
DTSTAMP:20260420T103947Z
SUMMARY:Stammtisch Basel
LOCATION:Grand Café Bar Clarastrasse 2  Basel  4058
ORGANIZER;CN=admin:MAILTO:admin@piratenpartei.ch
DTSTART;TZID=Europe/Zurich:20210630T190000
DTEND;TZID=Europe/Zurich:20210630T220000
X-ALT-DESC;FMTTYPE=TEXT/HTML:Nach langer Pause jetzt wieder offline als pub
 lic Beta! Die online Ausgabe gibt es weiterhin auf https://cyberstammtisch
 .ch/
CATEGORIES:Stammtisch
URL;VALUE=URI:
METHOD:PUBLISH
END:VEVENT
END:VCALENDAR