BEGIN:VCALENDAR
VERSION:2.0
PRODID:spatie/icalendar-generator
DESCRIPTION:Veranstaltungen von Piratenpartei beider Basel
X-WR-CALDESC:Veranstaltungen von Piratenpartei beider Basel
REFRESH-INTERVAL;VALUE=DURATION:PT1440M
X-PUBLISHED-TTL:PT1440M
BEGIN:VTIMEZONE
TZID:Europe/Zurich
BEGIN:DAYLIGHT
DTSTART:20230326T020000Z
TZOFFSETFROM:+0100
TZOFFSETTO:+0200
END:DAYLIGHT
BEGIN:STANDARD
DTSTART:20231029T030000Z
TZOFFSETFROM:+0200
TZOFFSETTO:+0100
END:STANDARD
BEGIN:DAYLIGHT
DTSTART:20240331T020000Z
TZOFFSETFROM:+0100
TZOFFSETTO:+0200
END:DAYLIGHT
END:VTIMEZONE
BEGIN:VTIMEZONE
TZID:UTC
BEGIN:STANDARD
DTSTART:20250724T104036Z
TZOFFSETFROM:+0000
TZOFFSETTO:+0000
END:STANDARD
END:VTIMEZONE
BEGIN:VEVENT
UID:449-237
DTSTAMP:20260420T104036Z
SUMMARY:Stammtisch Basel
LOCATION:Grand Café Bar Clarastrasse 2  Basel  4058
ORGANIZER;CN=admin:MAILTO:admin@piratenpartei.ch
RRULE:FREQ=MONTHLY;BYDAY=4TH;UNTIL=20231130T000000Z
DTSTART;TZID=Europe/Zurich:20231123T190000
DTEND;TZID=Europe/Zurich:20231123T213000
X-ALT-DESC;FMTTYPE=TEXT/HTML:Einmal im Monat treffen wir uns in Basel zum P
 arley. Die online Ausgabe gibt es weiterhin auf https://cyberstammtisch.ch
 /
CATEGORIES:Stammtisch
URL;VALUE=URI:
METHOD:PUBLISH
END:VEVENT
END:VCALENDAR